{"text_format":"3","workbook":"xlsx","n_sheets":6,"sheets":["家政服务1期","养老护理2期","养老护理1期 (2)","家政服务2期","家政服务4期 (2)","家政服务3期 (2)"],"not_rendered":{"defined_names":12},"read":"whole","date_system":"1900"}

{"sheet":"家政服务1期","index":0,"n_rows":57,"n_cols":11,"rows_kept":57,"merged":[[0,0,0,10],[1,0,1,10]]}
["封丘县职业技能提升培训合格学员花名册"]
["班级：2024年苏新封丘县家政服务员（母婴护理员）四级第1期                                                                                             补贴标准：元"]
["序号","姓名","性\n别","民族","学历","工作单位","培训机构\n名称","培训工种","培训起止时间","证书等级","补贴\n标准"]
[1,"李利勤",{"$f":"IF(OR(LEN(#REF!)=15,LEN(#REF!)=18),IF(MOD(MID(#REF!,15,3)*1,2),\"男\",\"女\"),#N/A)","v":{"$error":"#REF!"}},"汉","初中",null,"新乡市苏新职业培训学校","母婴护理员","2024.3.12-3.21","四级",1600]
[2,"何凌",{"$f":"IF(OR(LEN(#REF!)=15,LEN(#REF!)=18),IF(MOD(MID(#REF!,15,3)*1,2),\"男\",\"女\"),#N/A)","v":{"$error":"#REF!"}},"汉","初中",null,"新乡市苏新职业培训学校","母婴护理员","2024.3.12-3.21","四级",1600]
[3,"冯晓宇",{"$f":"IF(OR(LEN(#REF!)=15,LEN(#REF!)=18),IF(MOD(MID(#REF!,15,3)*1,2),\"男\",\"女\"),#N/A)","v":{"$error":"#REF!"}},"汉","初中",null,"新乡市苏新职业培训学校","母婴护理员","2024.3.12-3.21","四级",1600]
[4,"马岭岭",{"$f":"IF(OR(LEN(#REF!)=15,LEN(#REF!)=18),IF(MOD(MID(#REF!,15,3)*1,2),\"男\",\"女\"),#N/A)","v":{"$error":"#REF!"}},"汉","初中",null,"新乡市苏新职业培训学校","母婴护理员","2024.3.12-3.21","四级",1600]
[5,"杨委委",{"$f":"IF(OR(LEN(#REF!)=15,LEN(#REF!)=18),IF(MOD(MID(#REF!,15,3)*1,2),\"男\",\"女\"),#N/A)","v":{"$error":"#REF!"}},"汉","初中",null,"新乡市苏新职业培训学校","母婴护理员","2024.3.12-3.21","四级",1600]
[6,"秦保珍",{"$f":"IF(OR(LEN(#REF!)=15,LEN(#REF!)=18),IF(MOD(MID(#REF!,15,3)*1,2),\"男\",\"女\"),#N/A)","v":{"$error":"#REF!"}},"汉","初中",null,"新乡市苏新职业培训学校","母婴护理员","2024.3.12-3.21","四级",1600]
[7,"王彦芳",{"$f":"IF(OR(LEN(#REF!)=15,LEN(#REF!)=18),IF(MOD(MID(#REF!,15,3)*1,2),\"男\",\"女\"),#N/A)","v":{"$error":"#REF!"}},"汉","初中",null,"新乡市苏新职业培训学校","母婴护理员","2024.3.12-3.21","四级",1600]
[8,"陈美宪",{"$f":"IF(OR(LEN(#REF!)=15,LEN(#REF!)=18),IF(MOD(MID(#REF!,15,3)*1,2),\"男\",\"女\"),#N/A)","v":{"$error":"#REF!"}},"汉","初中",null,"新乡市苏新职业培训学校","母婴护理员","2024.3.12-3.21","四级",1600]
[9,"娄芳远",{"$f":"IF(OR(LEN(#REF!)=15,LEN(#REF!)=18),IF(MOD(MID(#REF!,15,3)*1,2),\"男\",\"女\"),#N/A)","v":{"$error":"#REF!"}},"汉","初中",null,"新乡市苏新职业培训学校","母婴护理员","2024.3.12-3.21","四级",1600]
[10,"岳绍芳",{"$f":"IF(OR(LEN(#REF!)=15,LEN(#REF!)=18),IF(MOD(MID(#REF!,15,3)*1,2),\"男\",\"女\"),#N/A)","v":{"$error":"#REF!"}},"汉","初中",null,"新乡市苏新职业培训学校","母婴护理员","2024.3.12-3.21","四级",1600]
[11,"王新凤",{"$f":"IF(OR(LEN(#REF!)=15,LEN(#REF!)=18),IF(MOD(MID(#REF!,15,3)*1,2),\"男\",\"女\"),#N/A)","v":{"$error":"#REF!"}},"汉","初中",null,"新乡市苏新职业培训学校","母婴护理员","2024.3.12-3.21","四级",1600]
[12,"岳雅明",{"$f":"IF(OR(LEN(#REF!)=15,LEN(#REF!)=18),IF(MOD(MID(#REF!,15,3)*1,2),\"男\",\"女\"),#N/A)","v":{"$error":"#REF!"}},"汉","初中",null,"新乡市苏新职业培训学校","母婴护理员","2024.3.12-3.21","四级",1600]
[13,"郭璐",{"$f":"IF(OR(LEN(#REF!)=15,LEN(#REF!)=18),IF(MOD(MID(#REF!,15,3)*1,2),\"男\",\"女\"),#N/A)","v":{"$error":"#REF!"}},"汉","初中",null,"新乡市苏新职业培训学校","母婴护理员","2024.3.12-3.21","四级",1600]
[14,"张华",{"$f":"IF(OR(LEN(#REF!)=15,LEN(#REF!)=18),IF(MOD(MID(#REF!,15,3)*1,2),\"男\",\"女\"),#N/A)","v":{"$error":"#REF!"}},"汉","初中",null,"新乡市苏新职业培训学校","母婴护理员","2024.3.12-3.21","四级",1600]
[15,"张青彦",{"$f":"IF(OR(LEN(#REF!)=15,LEN(#REF!)=18),IF(MOD(MID(#REF!,15,3)*1,2),\"男\",\"女\"),#N/A)","v":{"$error":"#REF!"}},"汉","初中",null,"新乡市苏新职业培训学校","母婴护理员","2024.3.12-3.21","四级",1600]
[16,"王茜",{"$f":"IF(OR(LEN(#REF!)=15,LEN(#REF!)=18),IF(MOD(MID(#REF!,15,3)*1,2),\"男\",\"女\"),#N/A)","v":{"$error":"#REF!"}},"汉","初中",null,"新乡市苏新职业培训学校","母婴护理员","2024.3.12-3.21","四级",1600]
[17,"王纪梅",{"$f":"IF(OR(LEN(#REF!)=15,LEN(#REF!)=18),IF(MOD(MID(#REF!,15,3)*1,2),\"男\",\"女\"),#N/A)","v":{"$error":"#REF!"}},"汉","初中",null,"新乡市苏新职业培训学校","母婴护理员","2024.3.12-3.21","四级",1600]
[18,"张婷婷",{"$f":"IF(OR(LEN(#REF!)=15,LEN(#REF!)=18),IF(MOD(MID(#REF!,15,3)*1,2),\"男\",\"女\"),#N/A)","v":{"$error":"#REF!"}},"汉","初中",null,"新乡市苏新职业培训学校","母婴护理员","2024.3.12-3.21","四级",1600]
[19,"王东雷",{"$f":"IF(OR(LEN(#REF!)=15,LEN(#REF!)=18),IF(MOD(MID(#REF!,15,3)*1,2),\"男\",\"女\"),#N/A)","v":{"$error":"#REF!"}},"汉","初中",null,"新乡市苏新职业培训学校","母婴护理员","2024.3.12-3.21","四级",1600]
[20,"石金佩",{"$f":"IF(OR(LEN(#REF!)=15,LEN(#REF!)=18),IF(MOD(MID(#REF!,15,3)*1,2),\"男\",\"女\"),#N/A)","v":{"$error":"#REF!"}},"汉","中专",null,"新乡市苏新职业培训学校","母婴护理员","2024.3.12-3.21","四级",1600]
[21,"王影",{"$f":"IF(OR(LEN(#REF!)=15,LEN(#REF!)=18),IF(MOD(MID(#REF!,15,3)*1,2),\"男\",\"女\"),#N/A)","v":{"$error":"#REF!"}},"汉","初中",null,"新乡市苏新职业培训学校","母婴护理员","2024.3.12-3.21","四级",1600]
[22,"宋敏",{"$f":"IF(OR(LEN(#REF!)=15,LEN(#REF!)=18),IF(MOD(MID(#REF!,15,3)*1,2),\"男\",\"女\"),#N/A)","v":{"$error":"#REF!"}},"汉","高中",null,"新乡市苏新职业培训学校","母婴护理员","2024.3.12-3.21","四级",1600]
[23,"杨振联",{"$f":"IF(OR(LEN(#REF!)=15,LEN(#REF!)=18),IF(MOD(MID(#REF!,15,3)*1,2),\"男\",\"女\"),#N/A)","v":{"$error":"#REF!"}},"汉","初中",null,"新乡市苏新职业培训学校","母婴护理员","2024.3.12-3.21","四级",1600]
[24,"任红霞",{"$f":"IF(OR(LEN(#REF!)=15,LEN(#REF!)=18),IF(MOD(MID(#REF!,15,3)*1,2),\"男\",\"女\"),#N/A)","v":{"$error":"#REF!"}},"汉","初中",null,"新乡市苏新职业培训学校","母婴护理员","2024.3.12-3.21","四级",1600]
[25,"王青梅",{"$f":"IF(OR(LEN(#REF!)=15,LEN(#REF!)=18),IF(MOD(MID(#REF!,15,3)*1,2),\"男\",\"女\"),#N/A)","v":{"$error":"#REF!"}},"汉","初中",null,"新乡市苏新职业培训学校","母婴护理员","2024.3.12-3.21","四级",1600]
[26,"魏永莉",{"$f":"IF(OR(LEN(#REF!)=15,LEN(#REF!)=18),IF(MOD(MID(#REF!,15,3)*1,2),\"男\",\"女\"),#N/A)","v":{"$error":"#REF!"}},"汉","初中",null,"新乡市苏新职业培训学校","母婴护理员","2024.3.12-3.21","四级",1600]
[27,"谷小利",{"$f":"IF(OR(LEN(#REF!)=15,LEN(#REF!)=18),IF(MOD(MID(#REF!,15,3)*1,2),\"男\",\"女\"),#N/A)","v":{"$error":"#REF!"}},"汉","初中",null,"新乡市苏新职业培训学校","母婴护理员","2024.3.12-3.21","四级",1600]
[28,"朱利云",{"$f":"IF(OR(LEN(#REF!)=15,LEN(#REF!)=18),IF(MOD(MID(#REF!,15,3)*1,2),\"男\",\"女\"),#N/A)","v":{"$error":"#REF!"}},"汉","初中",null,"新乡市苏新职业培训学校","母婴护理员","2024.3.12-3.21","四级",1600]
[29,"车世杰",{"$f":"IF(OR(LEN(#REF!)=15,LEN(#REF!)=18),IF(MOD(MID(#REF!,15,3)*1,2),\"男\",\"女\"),#N/A)","v":{"$error":"#REF!"}},"汉","初中",null,"新乡市苏新职业培训学校","母婴护理员","2024.3.12-3.21","四级",1600]
[30,"王新平",{"$f":"IF(OR(LEN(#REF!)=15,LEN(#REF!)=18),IF(MOD(MID(#REF!,15,3)*1,2),\"男\",\"女\"),#N/A)","v":{"$error":"#REF!"}},"汉","初中",null,"新乡市苏新职业培训学校","母婴护理员","2024.3.12-3.21","四级",1600]
[31,"李鸿娟",{"$f":"IF(OR(LEN(#REF!)=15,LEN(#REF!)=18),IF(MOD(MID(#REF!,15,3)*1,2),\"男\",\"女\"),#N/A)","v":{"$error":"#REF!"}},"汉","初中",null,"新乡市苏新职业培训学校","母婴护理员","2024.3.12-3.21","四级",1600]
[32,"姚伟玲",{"$f":"IF(OR(LEN(#REF!)=15,LEN(#REF!)=18),IF(MOD(MID(#REF!,15,3)*1,2),\"男\",\"女\"),#N/A)","v":{"$error":"#REF!"}},"汉","初中",null,"新乡市苏新职业培训学校","母婴护理员","2024.3.12-3.21","四级",1600]
[33,"孙书霞",{"$f":"IF(OR(LEN(#REF!)=15,LEN(#REF!)=18),IF(MOD(MID(#REF!,15,3)*1,2),\"男\",\"女\"),#N/A)","v":{"$error":"#REF!"}},"汉","初中",null,"新乡市苏新职业培训学校","母婴护理员","2024.3.12-3.21","四级",1600]
[34,"高永秋",{"$f":"IF(OR(LEN(#REF!)=15,LEN(#REF!)=18),IF(MOD(MID(#REF!,15,3)*1,2),\"男\",\"女\"),#N/A)","v":{"$error":"#REF!"}},"汉","初中",null,"新乡市苏新职业培训学校","母婴护理员","2024.3.12-3.21","四级",1600]
[35,"郑霞妮",{"$f":"IF(OR(LEN(#REF!)=15,LEN(#REF!)=18),IF(MOD(MID(#REF!,15,3)*1,2),\"男\",\"女\"),#N/A)","v":{"$error":"#REF!"}},"汉","初中",null,"新乡市苏新职业培训学校","母婴护理员","2024.3.12-3.21","四级",1600]
[36,"王茂菊",{"$f":"IF(OR(LEN(#REF!)=15,LEN(#REF!)=18),IF(MOD(MID(#REF!,15,3)*1,2),\"男\",\"女\"),#N/A)","v":{"$error":"#REF!"}},"汉","初中",null,"新乡市苏新职业培训学校","母婴护理员","2024.3.12-3.21","四级",1600]
[37,"姚兆霞",{"$f":"IF(OR(LEN(#REF!)=15,LEN(#REF!)=18),IF(MOD(MID(#REF!,15,3)*1,2),\"男\",\"女\"),#N/A)","v":{"$error":"#REF!"}},"汉","初中",null,"新乡市苏新职业培训学校","母婴护理员","2024.3.12-3.21","四级",1600]
[38,"毛银玲",{"$f":"IF(OR(LEN(#REF!)=15,LEN(#REF!)=18),IF(MOD(MID(#REF!,15,3)*1,2),\"男\",\"女\"),#N/A)","v":{"$error":"#REF!"}},"汉","初中",null,"新乡市苏新职业培训学校","母婴护理员","2024.3.12-3.21","四级",1600]
[39,"宋璐",{"$f":"IF(OR(LEN(#REF!)=15,LEN(#REF!)=18),IF(MOD(MID(#REF!,15,3)*1,2),\"男\",\"女\"),#N/A)","v":{"$error":"#REF!"}},"汉","初中",null,"新乡市苏新职业培训学校","母婴护理员","2024.3.12-3.21","四级",1600]
[40,"臧云云",{"$f":"IF(OR(LEN(#REF!)=15,LEN(#REF!)=18),IF(MOD(MID(#REF!,15,3)*1,2),\"男\",\"女\"),#N/A)","v":{"$error":"#REF!"}},"汉","初中",null,"新乡市苏新职业培训学校","母婴护理员","2024.3.12-3.21","四级",1600]
[41,"余娇曼",{"$f":"IF(OR(LEN(#REF!)=15,LEN(#REF!)=18),IF(MOD(MID(#REF!,15,3)*1,2),\"男\",\"女\"),#N/A)","v":{"$error":"#REF!"}},"汉","初中",null,"新乡市苏新职业培训学校","母婴护理员","2024.3.12-3.21","四级",1600]
[42,"荆树玲",{"$f":"IF(OR(LEN(#REF!)=15,LEN(#REF!)=18),IF(MOD(MID(#REF!,15,3)*1,2),\"男\",\"女\"),#N/A)","v":{"$error":"#REF!"}},"汉","初中",null,"新乡市苏新职业培训学校","母婴护理员","2024.3.12-3.21","四级",1600]
[43,"荆树芳",{"$f":"IF(OR(LEN(#REF!)=15,LEN(#REF!)=18),IF(MOD(MID(#REF!,15,3)*1,2),\"男\",\"女\"),#N/A)","v":{"$error":"#REF!"}},"汉","初中",null,"新乡市苏新职业培训学校","母婴护理员","2024.3.12-3.21","四级",1600]
[44,"张艳丽",{"$f":"IF(OR(LEN(#REF!)=15,LEN(#REF!)=18),IF(MOD(MID(#REF!,15,3)*1,2),\"男\",\"女\"),#N/A)","v":{"$error":"#REF!"}},"汉","初中",null,"新乡市苏新职业培训学校","母婴护理员","2024.3.12-3.21","四级",1600]
[45,"孔庆果",{"$f":"IF(OR(LEN(#REF!)=15,LEN(#REF!)=18),IF(MOD(MID(#REF!,15,3)*1,2),\"男\",\"女\"),#N/A)","v":{"$error":"#REF!"}},"汉","初中",null,"新乡市苏新职业培训学校","母婴护理员","2024.3.12-3.21","四级",1600]
[46,"郑忠丽",{"$f":"IF(OR(LEN(#REF!)=15,LEN(#REF!)=18),IF(MOD(MID(#REF!,15,3)*1,2),\"男\",\"女\"),#N/A)","v":{"$error":"#REF!"}},"汉","初中",null,"新乡市苏新职业培训学校","母婴护理员","2024.3.12-3.21","四级",1600]
[47,"李华",{"$f":"IF(OR(LEN(#REF!)=15,LEN(#REF!)=18),IF(MOD(MID(#REF!,15,3)*1,2),\"男\",\"女\"),#N/A)","v":{"$error":"#REF!"}},"汉","初中",null,"新乡市苏新职业培训学校","母婴护理员","2024.3.12-3.21","四级",1600]
[48,"海娜",{"$f":"IF(OR(LEN(#REF!)=15,LEN(#REF!)=18),IF(MOD(MID(#REF!,15,3)*1,2),\"男\",\"女\"),#N/A)","v":{"$error":"#REF!"}},"汉","初中",null,"新乡市苏新职业培训学校","母婴护理员","2024.3.12-3.21","四级",1600]
[49,"贾翠真",{"$f":"IF(OR(LEN(#REF!)=15,LEN(#REF!)=18),IF(MOD(MID(#REF!,15,3)*1,2),\"男\",\"女\"),#N/A)","v":{"$error":"#REF!"}},"汉","初中",null,"新乡市苏新职业培训学校","母婴护理员","2024.3.12-3.21","四级",1600]
[50,"郭卫利",{"$f":"IF(OR(LEN(#REF!)=15,LEN(#REF!)=18),IF(MOD(MID(#REF!,15,3)*1,2),\"男\",\"女\"),#N/A)","v":{"$error":"#REF!"}},"汉","初中",null,"新乡市苏新职业培训学校","母婴护理员","2024.3.12-3.21","四级",1600]
[51,"杨庆芳",{"$f":"IF(OR(LEN(#REF!)=15,LEN(#REF!)=18),IF(MOD(MID(#REF!,15,3)*1,2),\"男\",\"女\"),#N/A)","v":{"$error":"#REF!"}},"汉","初中",null,"新乡市苏新职业培训学校","母婴护理员","2024.3.12-3.21","四级",1600]
[52,"张学芬",{"$f":"IF(OR(LEN(#REF!)=15,LEN(#REF!)=18),IF(MOD(MID(#REF!,15,3)*1,2),\"男\",\"女\"),#N/A)","v":{"$error":"#REF!"}},"汉","初中",null,"新乡市苏新职业培训学校","母婴护理员","2024.3.12-3.21","四级",1600]
[53,"刘秀云",{"$f":"IF(OR(LEN(#REF!)=15,LEN(#REF!)=18),IF(MOD(MID(#REF!,15,3)*1,2),\"男\",\"女\"),#N/A)","v":{"$error":"#REF!"}},"汉","初中",null,"新乡市苏新职业培训学校","母婴护理员","2024.3.12-3.21","四级",1600]
[54,"赵丽红",{"$f":"IF(OR(LEN(#REF!)=15,LEN(#REF!)=18),IF(MOD(MID(#REF!,15,3)*1,2),\"男\",\"女\"),#N/A)","v":{"$error":"#REF!"}},"汉","初中",null,"新乡市苏新职业培训学校","母婴护理员","2024.3.12-3.21","四级",1600]

{"sheet":"养老护理2期","index":1,"n_rows":35,"n_cols":11,"rows_kept":35,"merged":[[0,0,0,10],[1,0,1,10]]}
["封丘县职业技能提升培训合格学员花名册"]
["班级：2024年苏新封丘县养老护理员四级第2期                                                                                                         补贴标准：元"]
["序号","姓名","性\n别","民族","学历","工作单位","培训机构\n名称","培训工种","培训起止时间","证书等级","补贴\n标准"]
[1,"马彦利",{"$f":"IF(OR(LEN(#REF!)=15,LEN(#REF!)=18),IF(MOD(MID(#REF!,15,3)*1,2),\"男\",\"女\"),#N/A)","v":{"$error":"#REF!"}},"汉","初中",null,"新乡市苏新职业培训学校","养老护理员","2024.5.10-5.19","四级",1760]
[2,"张贤会",{"$f":"IF(OR(LEN(#REF!)=15,LEN(#REF!)=18),IF(MOD(MID(#REF!,15,3)*1,2),\"男\",\"女\"),#N/A)","v":{"$error":"#REF!"}},"汉","初中",null,"新乡市苏新职业培训学校","养老护理员","2024.5.10-5.19","四级",1760]
[3,"李东梅",{"$f":"IF(OR(LEN(#REF!)=15,LEN(#REF!)=18),IF(MOD(MID(#REF!,15,3)*1,2),\"男\",\"女\"),#N/A)","v":{"$error":"#REF!"}},"汉","初中",null,"新乡市苏新职业培训学校","养老护理员","2024.5.10-5.19","四级",1760]
[4,"李之贵",{"$f":"IF(OR(LEN(#REF!)=15,LEN(#REF!)=18),IF(MOD(MID(#REF!,15,3)*1,2),\"男\",\"女\"),#N/A)","v":{"$error":"#REF!"}},"汉","初中",null,"新乡市苏新职业培训学校","养老护理员","2024.5.10-5.19","四级",1760]
[5,"申法花",{"$f":"IF(OR(LEN(#REF!)=15,LEN(#REF!)=18),IF(MOD(MID(#REF!,15,3)*1,2),\"男\",\"女\"),#N/A)","v":{"$error":"#REF!"}},"汉","初中",null,"新乡市苏新职业培训学校","养老护理员","2024.5.10-5.19","四级",1760]
[6,"申建国",{"$f":"IF(OR(LEN(#REF!)=15,LEN(#REF!)=18),IF(MOD(MID(#REF!,15,3)*1,2),\"男\",\"女\"),#N/A)","v":{"$error":"#REF!"}},"汉","初中",null,"新乡市苏新职业培训学校","养老护理员","2024.5.10-5.19","四级",1760]
[7,"高阳",{"$f":"IF(OR(LEN(#REF!)=15,LEN(#REF!)=18),IF(MOD(MID(#REF!,15,3)*1,2),\"男\",\"女\"),#N/A)","v":{"$error":"#REF!"}},"汉","初中",null,"新乡市苏新职业培训学校","养老护理员","2024.5.10-5.19","四级",1760]
[8,"闫学青",{"$f":"IF(OR(LEN(#REF!)=15,LEN(#REF!)=18),IF(MOD(MID(#REF!,15,3)*1,2),\"男\",\"女\"),#N/A)","v":{"$error":"#REF!"}},"汉","初中",null,"新乡市苏新职业培训学校","养老护理员","2024.5.10-5.19","四级",1760]
[9,"原培凤",{"$f":"IF(OR(LEN(#REF!)=15,LEN(#REF!)=18),IF(MOD(MID(#REF!,15,3)*1,2),\"男\",\"女\"),#N/A)","v":{"$error":"#REF!"}},"汉","初中",null,"新乡市苏新职业培训学校","养老护理员","2024.5.10-5.19","四级",1760]
[10,"郜家彬",{"$f":"IF(OR(LEN(#REF!)=15,LEN(#REF!)=18),IF(MOD(MID(#REF!,15,3)*1,2),\"男\",\"女\"),#N/A)","v":{"$error":"#REF!"}},"汉","初中",null,"新乡市苏新职业培训学校","养老护理员","2024.5.10-5.19","四级",1760]
[11,"刘全军",{"$f":"IF(OR(LEN(#REF!)=15,LEN(#REF!)=18),IF(MOD(MID(#REF!,15,3)*1,2),\"男\",\"女\"),#N/A)","v":{"$error":"#REF!"}},"汉","初中",null,"新乡市苏新职业培训学校","养老护理员","2024.5.10-5.19","四级",1760]
[12,"程保建",{"$f":"IF(OR(LEN(#REF!)=15,LEN(#REF!)=18),IF(MOD(MID(#REF!,15,3)*1,2),\"男\",\"女\"),#N/A)","v":{"$error":"#REF!"}},"汉","初中",null,"新乡市苏新职业培训学校","养老护理员","2024.5.10-5.19","四级",1760]
[13,"李秀辉",{"$f":"IF(OR(LEN(#REF!)=15,LEN(#REF!)=18),IF(MOD(MID(#REF!,15,3)*1,2),\"男\",\"女\"),#N/A)","v":{"$error":"#REF!"}},"汉","初中",null,"新乡市苏新职业培训学校","养老护理员","2024.5.10-5.19","四级",1760]
[14,"郭新风",{"$f":"IF(OR(LEN(#REF!)=15,LEN(#REF!)=18),IF(MOD(MID(#REF!,15,3)*1,2),\"男\",\"女\"),#N/A)","v":{"$error":"#REF!"}},"汉","初中",null,"新乡市苏新职业培训学校","养老护理员","2024.5.10-5.19","四级",1760]
[15,"师金字",{"$f":"IF(OR(LEN(#REF!)=15,LEN(#REF!)=18),IF(MOD(MID(#REF!,15,3)*1,2),\"男\",\"女\"),#N/A)","v":{"$error":"#REF!"}},"汉","初中",null,"新乡市苏新职业培训学校","养老护理员","2024.5.10-5.19","四级",1760]
[16,"耿素玲",{"$f":"IF(OR(LEN(#REF!)=15,LEN(#REF!)=18),IF(MOD(MID(#REF!,15,3)*1,2),\"男\",\"女\"),#N/A)","v":{"$error":"#REF!"}},"汉","初中",null,"新乡市苏新职业培训学校","养老护理员","2024.5.10-5.19","四级",1760]
[17,"佘麦玲",{"$f":"IF(OR(LEN(#REF!)=15,LEN(#REF!)=18),IF(MOD(MID(#REF!,15,3)*1,2),\"男\",\"女\"),#N/A)","v":{"$error":"#REF!"}},"汉","初中",null,"新乡市苏新职业培训学校","养老护理员","2024.5.10-5.19","四级",1760]
[18,"李伟",{"$f":"IF(OR(LEN(#REF!)=15,LEN(#REF!)=18),IF(MOD(MID(#REF!,15,3)*1,2),\"男\",\"女\"),#N/A)","v":{"$error":"#REF!"}},"汉","初中",null,"新乡市苏新职业培训学校","养老护理员","2024.5.10-5.19","四级",1760]
[19,"贾素梅",{"$f":"IF(OR(LEN(#REF!)=15,LEN(#REF!)=18),IF(MOD(MID(#REF!,15,3)*1,2),\"男\",\"女\"),#N/A)","v":{"$error":"#REF!"}},"汉","初中",null,"新乡市苏新职业培训学校","养老护理员","2024.5.10-5.19","四级",1760]
[20,"李荣花",{"$f":"IF(OR(LEN(#REF!)=15,LEN(#REF!)=18),IF(MOD(MID(#REF!,15,3)*1,2),\"男\",\"女\"),#N/A)","v":{"$error":"#REF!"}},"汉","初中",null,"新乡市苏新职业培训学校","养老护理员","2024.5.10-5.19","四级",1760]
[21,"许百杰",{"$f":"IF(OR(LEN(#REF!)=15,LEN(#REF!)=18),IF(MOD(MID(#REF!,15,3)*1,2),\"男\",\"女\"),#N/A)","v":{"$error":"#REF!"}},"汉","初中",null,"新乡市苏新职业培训学校","养老护理员","2024.5.10-5.19","四级",1760]
[22,"贾转芝",{"$f":"IF(OR(LEN(#REF!)=15,LEN(#REF!)=18),IF(MOD(MID(#REF!,15,3)*1,2),\"男\",\"女\"),#N/A)","v":{"$error":"#REF!"}},"汉","初中",null,"新乡市苏新职业培训学校","养老护理员","2024.5.10-5.19","四级",1760]
[23,"王化英",{"$f":"IF(OR(LEN(#REF!)=15,LEN(#REF!)=18),IF(MOD(MID(#REF!,15,3)*1,2),\"男\",\"女\"),#N/A)","v":{"$error":"#REF!"}},"汉","初中",null,"新乡市苏新职业培训学校","养老护理员","2024.5.10-5.19","四级",1760]
[24,"王粉梅",{"$f":"IF(OR(LEN(#REF!)=15,LEN(#REF!)=18),IF(MOD(MID(#REF!,15,3)*1,2),\"男\",\"女\"),#N/A)","v":{"$error":"#REF!"}},"汉","初中",null,"新乡市苏新职业培训学校","养老护理员","2024.5.10-5.19","四级",1760]
[25,"李红霞",{"$f":"IF(OR(LEN(#REF!)=15,LEN(#REF!)=18),IF(MOD(MID(#REF!,15,3)*1,2),\"男\",\"女\"),#N/A)","v":{"$error":"#REF!"}},"汉","初中",null,"新乡市苏新职业培训学校","养老护理员","2024.5.10-5.19","四级",1760]
[26,"傅善花",{"$f":"IF(OR(LEN(#REF!)=15,LEN(#REF!)=18),IF(MOD(MID(#REF!,15,3)*1,2),\"男\",\"女\"),#N/A)","v":{"$error":"#REF!"}},"汉","初中",null,"新乡市苏新职业培训学校","养老护理员","2024.5.10-5.19","四级",1760]
[27,"李凤彩",{"$f":"IF(OR(LEN(#REF!)=15,LEN(#REF!)=18),IF(MOD(MID(#REF!,15,3)*1,2),\"男\",\"女\"),#N/A)","v":{"$error":"#REF!"}},"汉","初中",null,"新乡市苏新职业培训学校","养老护理员","2024.5.10-5.19","四级",1760]
[28,"尚春青",{"$f":"IF(OR(LEN(#REF!)=15,LEN(#REF!)=18),IF(MOD(MID(#REF!,15,3)*1,2),\"男\",\"女\"),#N/A)","v":{"$error":"#REF!"}},"汉","初中",null,"新乡市苏新职业培训学校","养老护理员","2024.5.10-5.19","四级",1760]
[29,"李兵才",{"$f":"IF(OR(LEN(#REF!)=15,LEN(#REF!)=18),IF(MOD(MID(#REF!,15,3)*1,2),\"男\",\"女\"),#N/A)","v":{"$error":"#REF!"}},"汉","初中",null,"新乡市苏新职业培训学校","养老护理员","2024.5.10-5.19","四级",1760]
[30,"马文学",{"$f":"IF(OR(LEN(#REF!)=15,LEN(#REF!)=18),IF(MOD(MID(#REF!,15,3)*1,2),\"男\",\"女\"),#N/A)","v":{"$error":"#REF!"}},"汉","初中",null,"新乡市苏新职业培训学校","养老护理员","2024.5.10-5.19","四级",1760]
[31,"张喜莲",{"$f":"IF(OR(LEN(#REF!)=15,LEN(#REF!)=18),IF(MOD(MID(#REF!,15,3)*1,2),\"男\",\"女\"),#N/A)","v":{"$error":"#REF!"}},"汉","初中",null,"新乡市苏新职业培训学校","养老护理员","2024.5.10-5.19","四级",1760]
[32,"杨海云",{"$f":"IF(OR(LEN(#REF!)=15,LEN(#REF!)=18),IF(MOD(MID(#REF!,15,3)*1,2),\"男\",\"女\"),#N/A)","v":{"$error":"#REF!"}},"汉","初中",null,"新乡市苏新职业培训学校","养老护理员","2024.5.10-5.19","四级",1760]

{"sheet":"养老护理1期 (2)","index":2,"n_rows":36,"n_cols":11,"rows_kept":36,"merged":[[0,0,0,10],[1,0,1,10]]}
["封丘县职业技能提升培训合格学员花名册"]
["班级：2024年苏新封丘县养老护理员四级第1期                                                                                                         补贴标准：元"]
["序号","姓名","性\n别","民族","学历","工作单位","培训机构\n名称","培训工种","培训起止时间","证书等级","补贴\n标准"]
[1,"马素莲",{"$f":"IF(OR(LEN(#REF!)=15,LEN(#REF!)=18),IF(MOD(MID(#REF!,15,3)*1,2),\"男\",\"女\"),#N/A)","v":{"$error":"#REF!"}},"汉","初中",null,"新乡市苏新职业培训学校","养老护理员","2024.3.29-4.8","四级",1760]
[2,"郑金英",{"$f":"IF(OR(LEN(#REF!)=15,LEN(#REF!)=18),IF(MOD(MID(#REF!,15,3)*1,2),\"男\",\"女\"),#N/A)","v":{"$error":"#REF!"}},"汉","初中",null,"新乡市苏新职业培训学校","养老护理员","2024.3.29-4.8","四级",1760]
[3,"曹红菊",{"$f":"IF(OR(LEN(#REF!)=15,LEN(#REF!)=18),IF(MOD(MID(#REF!,15,3)*1,2),\"男\",\"女\"),#N/A)","v":{"$error":"#REF!"}},"汉","中专",null,"新乡市苏新职业培训学校","养老护理员","2024.3.29-4.8","四级",1760]
[4,"佘小彦",{"$f":"IF(OR(LEN(#REF!)=15,LEN(#REF!)=18),IF(MOD(MID(#REF!,15,3)*1,2),\"男\",\"女\"),#N/A)","v":{"$error":"#REF!"}},"汉","初中",null,"新乡市苏新职业培训学校","养老护理员","2024.3.29-4.8","四级",1760]
[5,"杨建梅",{"$f":"IF(OR(LEN(#REF!)=15,LEN(#REF!)=18),IF(MOD(MID(#REF!,15,3)*1,2),\"男\",\"女\"),#N/A)","v":{"$error":"#REF!"}},"汉","初中",null,"新乡市苏新职业培训学校","养老护理员","2024.3.29-4.8","四级",1760]
[6,"曹秀梅",{"$f":"IF(OR(LEN(#REF!)=15,LEN(#REF!)=18),IF(MOD(MID(#REF!,15,3)*1,2),\"男\",\"女\"),#N/A)","v":{"$error":"#REF!"}},"汉","大专",null,"新乡市苏新职业培训学校","养老护理员","2024.3.29-4.8","四级",1760]
[7,"张子峰",{"$f":"IF(OR(LEN(#REF!)=15,LEN(#REF!)=18),IF(MOD(MID(#REF!,15,3)*1,2),\"男\",\"女\"),#N/A)","v":{"$error":"#REF!"}},"汉","初中",null,"新乡市苏新职业培训学校","养老护理员","2024.3.29-4.8","四级",1760]
[8,"申少云",{"$f":"IF(OR(LEN(#REF!)=15,LEN(#REF!)=18),IF(MOD(MID(#REF!,15,3)*1,2),\"男\",\"女\"),#N/A)","v":{"$error":"#REF!"}},"汉","初中",null,"新乡市苏新职业培训学校","养老护理员","2024.3.29-4.8","四级",1760]
[9,"姚俊兰",{"$f":"IF(OR(LEN(#REF!)=15,LEN(#REF!)=18),IF(MOD(MID(#REF!,15,3)*1,2),\"男\",\"女\"),#N/A)","v":{"$error":"#REF!"}},"汉","高中",null,"新乡市苏新职业培训学校","养老护理员","2024.3.29-4.8","四级",1760]
[10,"王国荣",{"$f":"IF(OR(LEN(#REF!)=15,LEN(#REF!)=18),IF(MOD(MID(#REF!,15,3)*1,2),\"男\",\"女\"),#N/A)","v":{"$error":"#REF!"}},"汉","初中",null,"新乡市苏新职业培训学校","养老护理员","2024.3.29-4.8","四级",1760]
[11,"陈东菊",{"$f":"IF(OR(LEN(#REF!)=15,LEN(#REF!)=18),IF(MOD(MID(#REF!,15,3)*1,2),\"男\",\"女\"),#N/A)","v":{"$error":"#REF!"}},"汉","初中",null,"新乡市苏新职业培训学校","养老护理员","2024.3.29-4.8","四级",1760]
[12,"杨延美",{"$f":"IF(OR(LEN(#REF!)=15,LEN(#REF!)=18),IF(MOD(MID(#REF!,15,3)*1,2),\"男\",\"女\"),#N/A)","v":{"$error":"#REF!"}},"汉","初中",null,"新乡市苏新职业培训学校","养老护理员","2024.3.29-4.8","四级",1760]
[13,"范正党",{"$f":"IF(OR(LEN(#REF!)=15,LEN(#REF!)=18),IF(MOD(MID(#REF!,15,3)*1,2),\"男\",\"女\"),#N/A)","v":{"$error":"#REF!"}},"汉","初中",null,"新乡市苏新职业培训学校","养老护理员","2024.3.29-4.8","四级",1760]
[14,"赵新清",{"$f":"IF(OR(LEN(#REF!)=15,LEN(#REF!)=18),IF(MOD(MID(#REF!,15,3)*1,2),\"男\",\"女\"),#N/A)","v":{"$error":"#REF!"}},"汉","初中",null,"新乡市苏新职业培训学校","养老护理员","2024.3.29-4.8","四级",1760]
[15,"姚振芹",{"$f":"IF(OR(LEN(#REF!)=15,LEN(#REF!)=18),IF(MOD(MID(#REF!,15,3)*1,2),\"男\",\"女\"),#N/A)","v":{"$error":"#REF!"}},"汉","初中",null,"新乡市苏新职业培训学校","养老护理员","2024.3.29-4.8","四级",1760]
[16,"刘丽亚",{"$f":"IF(OR(LEN(#REF!)=15,LEN(#REF!)=18),IF(MOD(MID(#REF!,15,3)*1,2),\"男\",\"女\"),#N/A)","v":{"$error":"#REF!"}},"汉","初中",null,"新乡市苏新职业培训学校","养老护理员","2024.3.29-4.8","四级",1760]
[17,"王永梅",{"$f":"IF(OR(LEN(#REF!)=15,LEN(#REF!)=18),IF(MOD(MID(#REF!,15,3)*1,2),\"男\",\"女\"),#N/A)","v":{"$error":"#REF!"}},"汉","初中",null,"新乡市苏新职业培训学校","养老护理员","2024.3.29-4.8","四级",1760]
[18,"杨利华",{"$f":"IF(OR(LEN(#REF!)=15,LEN(#REF!)=18),IF(MOD(MID(#REF!,15,3)*1,2),\"男\",\"女\"),#N/A)","v":{"$error":"#REF!"}},"汉","初中",null,"新乡市苏新职业培训学校","养老护理员","2024.3.29-4.8","四级",1760]
[19,"路金霞",{"$f":"IF(OR(LEN(#REF!)=15,LEN(#REF!)=18),IF(MOD(MID(#REF!,15,3)*1,2),\"男\",\"女\"),#N/A)","v":{"$error":"#REF!"}},"汉","初中",null,"新乡市苏新职业培训学校","养老护理员","2024.3.29-4.8","四级",1760]
[20,"崔立",{"$f":"IF(OR(LEN(#REF!)=15,LEN(#REF!)=18),IF(MOD(MID(#REF!,15,3)*1,2),\"男\",\"女\"),#N/A)","v":{"$error":"#REF!"}},"汉","初中",null,"新乡市苏新职业培训学校","养老护理员","2024.3.29-4.8","四级",1760]
[21,"马玉勤",{"$f":"IF(OR(LEN(#REF!)=15,LEN(#REF!)=18),IF(MOD(MID(#REF!,15,3)*1,2),\"男\",\"女\"),#N/A)","v":{"$error":"#REF!"}},"汉","初中",null,"新乡市苏新职业培训学校","养老护理员","2024.3.29-4.8","四级",1760]
[22,"李红平",{"$f":"IF(OR(LEN(#REF!)=15,LEN(#REF!)=18),IF(MOD(MID(#REF!,15,3)*1,2),\"男\",\"女\"),#N/A)","v":{"$error":"#REF!"}},"汉","初中",null,"新乡市苏新职业培训学校","养老护理员","2024.3.29-4.8","四级",1760]
[23,"赵文青",{"$f":"IF(OR(LEN(#REF!)=15,LEN(#REF!)=18),IF(MOD(MID(#REF!,15,3)*1,2),\"男\",\"女\"),#N/A)","v":{"$error":"#REF!"}},"汉","中专",null,"新乡市苏新职业培训学校","养老护理员","2024.3.29-4.8","四级",1760]
[24,"牛万才",{"$f":"IF(OR(LEN(#REF!)=15,LEN(#REF!)=18),IF(MOD(MID(#REF!,15,3)*1,2),\"男\",\"女\"),#N/A)","v":{"$error":"#REF!"}},"汉","初中",null,"新乡市苏新职业培训学校","养老护理员","2024.3.29-4.8","四级",1760]
[25,"李桂香",{"$f":"IF(OR(LEN(#REF!)=15,LEN(#REF!)=18),IF(MOD(MID(#REF!,15,3)*1,2),\"男\",\"女\"),#N/A)","v":{"$error":"#REF!"}},"汉","中专",null,"新乡市苏新职业培训学校","养老护理员","2024.3.29-4.8","四级",1760]
[26,"张训兵",{"$f":"IF(OR(LEN(#REF!)=15,LEN(#REF!)=18),IF(MOD(MID(#REF!,15,3)*1,2),\"男\",\"女\"),#N/A)","v":{"$error":"#REF!"}},"汉","初中",null,"新乡市苏新职业培训学校","养老护理员","2024.3.29-4.8","四级",1760]
[27,"赵小芳",{"$f":"IF(OR(LEN(#REF!)=15,LEN(#REF!)=18),IF(MOD(MID(#REF!,15,3)*1,2),\"男\",\"女\"),#N/A)","v":{"$error":"#REF!"}},"汉","初中",null,"新乡市苏新职业培训学校","养老护理员","2024.3.29-4.8","四级",1760]
[28,"刘光英",{"$f":"IF(OR(LEN(#REF!)=15,LEN(#REF!)=18),IF(MOD(MID(#REF!,15,3)*1,2),\"男\",\"女\"),#N/A)","v":{"$error":"#REF!"}},"汉","初中",null,"新乡市苏新职业培训学校","养老护理员","2024.3.29-4.8","四级",1760]
[29,"吕玉霞",{"$f":"IF(OR(LEN(#REF!)=15,LEN(#REF!)=18),IF(MOD(MID(#REF!,15,3)*1,2),\"男\",\"女\"),#N/A)","v":{"$error":"#REF!"}},"汉","高中",null,"新乡市苏新职业培训学校","养老护理员","2024.3.29-4.8","四级",1760]
[30,"陈国芳",{"$f":"IF(OR(LEN(#REF!)=15,LEN(#REF!)=18),IF(MOD(MID(#REF!,15,3)*1,2),\"男\",\"女\"),#N/A)","v":{"$error":"#REF!"}},"汉","初中",null,"新乡市苏新职业培训学校","养老护理员","2024.3.29-4.8","四级",1760]
[31,"卞素琴",{"$f":"IF(OR(LEN(#REF!)=15,LEN(#REF!)=18),IF(MOD(MID(#REF!,15,3)*1,2),\"男\",\"女\"),#N/A)","v":{"$error":"#REF!"}},"汉","初中",null,"新乡市苏新职业培训学校","养老护理员","2024.3.29-4.8","四级",1760]
[32,"张素芹",{"$f":"IF(OR(LEN(#REF!)=15,LEN(#REF!)=18),IF(MOD(MID(#REF!,15,3)*1,2),\"男\",\"女\"),#N/A)","v":{"$error":"#REF!"}},"汉","初中",null,"新乡市苏新职业培训学校","养老护理员","2024.3.29-4.8","四级",1760]
[33,"刘红军",{"$f":"IF(OR(LEN(#REF!)=15,LEN(#REF!)=18),IF(MOD(MID(#REF!,15,3)*1,2),\"男\",\"女\"),#N/A)","v":{"$error":"#REF!"}},"汉","初中",null,"新乡市苏新职业培训学校","养老护理员","2024.3.29-4.8","四级",1760]

{"sheet":"家政服务2期","index":3,"n_rows":39,"n_cols":11,"rows_kept":39,"merged":[[0,0,0,10],[1,0,1,10]]}
["封丘县职业技能提升培训合格学员花名册"]
["班级：2024年苏新封丘县家政服务员（母婴护理员）四级第2期                                                                                             补贴标准：元"]
["序号","姓名","性\n别","民族","学历","工作单位","培训机构\n名称","培训工种","培训起止时间","证书等级","补贴\n标准"]
[1,"单新果",{"$f":"IF(OR(LEN(#REF!)=15,LEN(#REF!)=18),IF(MOD(MID(#REF!,15,3)*1,2),\"男\",\"女\"),#N/A)","v":{"$error":"#REF!"}},"汉","初中",null,"新乡市苏新职业培训学校","母婴护理员","2024.3.25-4.2","四级",1600]
[2,"王春苹",{"$f":"IF(OR(LEN(#REF!)=15,LEN(#REF!)=18),IF(MOD(MID(#REF!,15,3)*1,2),\"男\",\"女\"),#N/A)","v":{"$error":"#REF!"}},"汉","初中",null,"新乡市苏新职业培训学校","母婴护理员","2024.3.25-4.2","四级",1600]
[3,"蔡利萍",{"$f":"IF(OR(LEN(#REF!)=15,LEN(#REF!)=18),IF(MOD(MID(#REF!,15,3)*1,2),\"男\",\"女\"),#N/A)","v":{"$error":"#REF!"}},"汉","初中",null,"新乡市苏新职业培训学校","母婴护理员","2024.3.25-4.2","四级",1600]
[4,"宋丽丽",{"$f":"IF(OR(LEN(#REF!)=15,LEN(#REF!)=18),IF(MOD(MID(#REF!,15,3)*1,2),\"男\",\"女\"),#N/A)","v":{"$error":"#REF!"}},"汉","初中",null,"新乡市苏新职业培训学校","母婴护理员","2024.3.25-4.2","四级",1600]
[5,"张利",{"$f":"IF(OR(LEN(#REF!)=15,LEN(#REF!)=18),IF(MOD(MID(#REF!,15,3)*1,2),\"男\",\"女\"),#N/A)","v":{"$error":"#REF!"}},"汉","初中",null,"新乡市苏新职业培训学校","母婴护理员","2024.3.25-4.2","四级",1600]
[6,"苗秀菊",{"$f":"IF(OR(LEN(#REF!)=15,LEN(#REF!)=18),IF(MOD(MID(#REF!,15,3)*1,2),\"男\",\"女\"),#N/A)","v":{"$error":"#REF!"}},"汉","初中",null,"新乡市苏新职业培训学校","母婴护理员","2024.3.25-4.2","四级",1600]
[7,"窦俊丽",{"$f":"IF(OR(LEN(#REF!)=15,LEN(#REF!)=18),IF(MOD(MID(#REF!,15,3)*1,2),\"男\",\"女\"),#N/A)","v":{"$error":"#REF!"}},"汉","高中",null,"新乡市苏新职业培训学校","母婴护理员","2024.3.25-4.2","四级",1600]
[8,"赵言芳",{"$f":"IF(OR(LEN(#REF!)=15,LEN(#REF!)=18),IF(MOD(MID(#REF!,15,3)*1,2),\"男\",\"女\"),#N/A)","v":{"$error":"#REF!"}},"汉","高中",null,"新乡市苏新职业培训学校","母婴护理员","2024.3.25-4.2","四级",1600]
[9,"李保风",{"$f":"IF(OR(LEN(#REF!)=15,LEN(#REF!)=18),IF(MOD(MID(#REF!,15,3)*1,2),\"男\",\"女\"),#N/A)","v":{"$error":"#REF!"}},"汉","初中",null,"新乡市苏新职业培训学校","母婴护理员","2024.3.25-4.2","四级",1600]
[10,"李纯芬",{"$f":"IF(OR(LEN(#REF!)=15,LEN(#REF!)=18),IF(MOD(MID(#REF!,15,3)*1,2),\"男\",\"女\"),#N/A)","v":{"$error":"#REF!"}},"汉","初中",null,"新乡市苏新职业培训学校","母婴护理员","2024.3.25-4.2","四级",1600]
[11,"张盼盼",{"$f":"IF(OR(LEN(#REF!)=15,LEN(#REF!)=18),IF(MOD(MID(#REF!,15,3)*1,2),\"男\",\"女\"),#N/A)","v":{"$error":"#REF!"}},"汉","初中",null,"新乡市苏新职业培训学校","母婴护理员","2024.3.25-4.2","四级",1600]
[12,"王学珍",{"$f":"IF(OR(LEN(#REF!)=15,LEN(#REF!)=18),IF(MOD(MID(#REF!,15,3)*1,2),\"男\",\"女\"),#N/A)","v":{"$error":"#REF!"}},"汉","初中",null,"新乡市苏新职业培训学校","母婴护理员","2024.3.25-4.2","四级",1600]
[13,"郭振霞",{"$f":"IF(OR(LEN(#REF!)=15,LEN(#REF!)=18),IF(MOD(MID(#REF!,15,3)*1,2),\"男\",\"女\"),#N/A)","v":{"$error":"#REF!"}},"汉","初中",null,"新乡市苏新职业培训学校","母婴护理员","2024.3.25-4.2","四级",1600]
[14,"王小娟",{"$f":"IF(OR(LEN(#REF!)=15,LEN(#REF!)=18),IF(MOD(MID(#REF!,15,3)*1,2),\"男\",\"女\"),#N/A)","v":{"$error":"#REF!"}},"汉","初中",null,"新乡市苏新职业培训学校","母婴护理员","2024.3.25-4.2","四级",1600]
[15,"李芬菊",{"$f":"IF(OR(LEN(#REF!)=15,LEN(#REF!)=18),IF(MOD(MID(#REF!,15,3)*1,2),\"男\",\"女\"),#N/A)","v":{"$error":"#REF!"}},"汉","初中",null,"新乡市苏新职业培训学校","母婴护理员","2024.3.25-4.2","四级",1600]
[16,"李伟姣",{"$f":"IF(OR(LEN(#REF!)=15,LEN(#REF!)=18),IF(MOD(MID(#REF!,15,3)*1,2),\"男\",\"女\"),#N/A)","v":{"$error":"#REF!"}},"汉","初中",null,"新乡市苏新职业培训学校","母婴护理员","2024.3.25-4.2","四级",1600]
[17,"马彦波",{"$f":"IF(OR(LEN(#REF!)=15,LEN(#REF!)=18),IF(MOD(MID(#REF!,15,3)*1,2),\"男\",\"女\"),#N/A)","v":{"$error":"#REF!"}},"汉","初中",null,"新乡市苏新职业培训学校","母婴护理员","2024.3.25-4.2","四级",1600]
[18,"张志贤",{"$f":"IF(OR(LEN(#REF!)=15,LEN(#REF!)=18),IF(MOD(MID(#REF!,15,3)*1,2),\"男\",\"女\"),#N/A)","v":{"$error":"#REF!"}},"汉","初中",null,"新乡市苏新职业培训学校","母婴护理员","2024.3.25-4.2","四级",1600]
[19,"李艳",{"$f":"IF(OR(LEN(#REF!)=15,LEN(#REF!)=18),IF(MOD(MID(#REF!,15,3)*1,2),\"男\",\"女\"),#N/A)","v":{"$error":"#REF!"}},"汉","初中",null,"新乡市苏新职业培训学校","母婴护理员","2024.3.25-4.2","四级",1600]
[20,"徐继红",{"$f":"IF(OR(LEN(#REF!)=15,LEN(#REF!)=18),IF(MOD(MID(#REF!,15,3)*1,2),\"男\",\"女\"),#N/A)","v":{"$error":"#REF!"}},"汉","初中",null,"新乡市苏新职业培训学校","母婴护理员","2024.3.25-4.2","四级",1600]
[21,"陈虹",{"$f":"IF(OR(LEN(#REF!)=15,LEN(#REF!)=18),IF(MOD(MID(#REF!,15,3)*1,2),\"男\",\"女\"),#N/A)","v":{"$error":"#REF!"}},"汉","初中",null,"新乡市苏新职业培训学校","母婴护理员","2024.3.25-4.2","四级",1600]
[22,"赵晓苹",{"$f":"IF(OR(LEN(#REF!)=15,LEN(#REF!)=18),IF(MOD(MID(#REF!,15,3)*1,2),\"男\",\"女\"),#N/A)","v":{"$error":"#REF!"}},"汉","大专",null,"新乡市苏新职业培训学校","母婴护理员","2024.3.25-4.2","四级",1600]
[23,"崔永梅",{"$f":"IF(OR(LEN(#REF!)=15,LEN(#REF!)=18),IF(MOD(MID(#REF!,15,3)*1,2),\"男\",\"女\"),#N/A)","v":{"$error":"#REF!"}},"汉","初中",null,"新乡市苏新职业培训学校","母婴护理员","2024.3.25-4.2","四级",1600]
[24,"周宗梅",{"$f":"IF(OR(LEN(#REF!)=15,LEN(#REF!)=18),IF(MOD(MID(#REF!,15,3)*1,2),\"男\",\"女\"),#N/A)","v":{"$error":"#REF!"}},"汉","初中",null,"新乡市苏新职业培训学校","母婴护理员","2024.3.25-4.2","四级",1600]
[25,"程丽娜",{"$f":"IF(OR(LEN(#REF!)=15,LEN(#REF!)=18),IF(MOD(MID(#REF!,15,3)*1,2),\"男\",\"女\"),#N/A)","v":{"$error":"#REF!"}},"汉","初中",null,"新乡市苏新职业培训学校","母婴护理员","2024.3.25-4.2","四级",1600]
[26,"张莉莎",{"$f":"IF(OR(LEN(#REF!)=15,LEN(#REF!)=18),IF(MOD(MID(#REF!,15,3)*1,2),\"男\",\"女\"),#N/A)","v":{"$error":"#REF!"}},"汉","初中",null,"新乡市苏新职业培训学校","母婴护理员","2024.3.25-4.2","四级",1600]
[27,"冯爱亭",{"$f":"IF(OR(LEN(#REF!)=15,LEN(#REF!)=18),IF(MOD(MID(#REF!,15,3)*1,2),\"男\",\"女\"),#N/A)","v":{"$error":"#REF!"}},"汉","初中",null,"新乡市苏新职业培训学校","母婴护理员","2024.3.25-4.2","四级",1600]
[28,"葛瑞霞",{"$f":"IF(OR(LEN(#REF!)=15,LEN(#REF!)=18),IF(MOD(MID(#REF!,15,3)*1,2),\"男\",\"女\"),#N/A)","v":{"$error":"#REF!"}},"汉","初中",null,"新乡市苏新职业培训学校","母婴护理员","2024.3.25-4.2","四级",1600]
[29,"王新琴",{"$f":"IF(OR(LEN(#REF!)=15,LEN(#REF!)=18),IF(MOD(MID(#REF!,15,3)*1,2),\"男\",\"女\"),#N/A)","v":{"$error":"#REF!"}},"汉","初中",null,"新乡市苏新职业培训学校","母婴护理员","2024.3.25-4.2","四级",1600]
[30,"朱红美",{"$f":"IF(OR(LEN(#REF!)=15,LEN(#REF!)=18),IF(MOD(MID(#REF!,15,3)*1,2),\"男\",\"女\"),#N/A)","v":{"$error":"#REF!"}},"汉","初中",null,"新乡市苏新职业培训学校","母婴护理员","2024.3.25-4.2","四级",1600]
[31,"赵国红",{"$f":"IF(OR(LEN(#REF!)=15,LEN(#REF!)=18),IF(MOD(MID(#REF!,15,3)*1,2),\"男\",\"女\"),#N/A)","v":{"$error":"#REF!"}},"汉","初中",null,"新乡市苏新职业培训学校","母婴护理员","2024.3.25-4.2","四级",1600]
[32,"邢绘芹",{"$f":"IF(OR(LEN(#REF!)=15,LEN(#REF!)=18),IF(MOD(MID(#REF!,15,3)*1,2),\"男\",\"女\"),#N/A)","v":{"$error":"#REF!"}},"汉","初中",null,"新乡市苏新职业培训学校","母婴护理员","2024.3.25-4.2","四级",1600]
[33,"赵方",{"$f":"IF(OR(LEN(#REF!)=15,LEN(#REF!)=18),IF(MOD(MID(#REF!,15,3)*1,2),\"男\",\"女\"),#N/A)","v":{"$error":"#REF!"}},"汉","初中",null,"新乡市苏新职业培训学校","母婴护理员","2024.3.25-4.2","四级",1600]
[34,"贺瑞霞",{"$f":"IF(OR(LEN(#REF!)=15,LEN(#REF!)=18),IF(MOD(MID(#REF!,15,3)*1,2),\"男\",\"女\"),#N/A)","v":{"$error":"#REF!"}},"汉","初中",null,"新乡市苏新职业培训学校","母婴护理员","2024.3.25-4.2","四级",1600]
[35,"宋艳玲",{"$f":"IF(OR(LEN(#REF!)=15,LEN(#REF!)=18),IF(MOD(MID(#REF!,15,3)*1,2),\"男\",\"女\"),#N/A)","v":{"$error":"#REF!"}},"汉","初中",null,"新乡市苏新职业培训学校","母婴护理员","2024.3.25-4.2","四级",1600]
[36,"尚秀娟",{"$f":"IF(OR(LEN(#REF!)=15,LEN(#REF!)=18),IF(MOD(MID(#REF!,15,3)*1,2),\"男\",\"女\"),#N/A)","v":{"$error":"#REF!"}},"汉","高中",null,"新乡市苏新职业培训学校","母婴护理员","2024.3.25-4.2","四级",1600]

{"sheet":"家政服务4期 (2)","index":4,"n_rows":62,"n_cols":11,"rows_kept":62,"merged":[[0,0,0,10],[1,0,1,10]]}
["封丘县职业技能提升培训合格学员花名册"]
["班级：2024年苏新封丘县家政服务员（母婴护理员）四级第4期                                                                                             补贴标准：元"]
["序号","姓名","性\n别","民族","学历","工作单位","培训机构\n名称","培训工种","培训起止时间","证书等级","补贴\n标准"]
[1,"班芹彩",{"$f":"IF(OR(LEN(#REF!)=15,LEN(#REF!)=18),IF(MOD(MID(#REF!,15,3)*1,2),\"男\",\"女\"),#N/A)","v":{"$error":"#REF!"}},"汉","初中",null,"新乡市苏新职业培训学校","母婴护理员","2024.5.14-5.22","四级",1600]
[2,"蔡利林",{"$f":"IF(OR(LEN(#REF!)=15,LEN(#REF!)=18),IF(MOD(MID(#REF!,15,3)*1,2),\"男\",\"女\"),#N/A)","v":{"$error":"#REF!"}},"汉","初中",null,"新乡市苏新职业培训学校","母婴护理员","2024.5.14-5.22","四级",1600]
[3,"蔡利霞",{"$f":"IF(OR(LEN(#REF!)=15,LEN(#REF!)=18),IF(MOD(MID(#REF!,15,3)*1,2),\"男\",\"女\"),#N/A)","v":{"$error":"#REF!"}},"汉","中专",null,"新乡市苏新职业培训学校","母婴护理员","2024.5.14-5.22","四级",1600]
[4,"蔡文利",{"$f":"IF(OR(LEN(#REF!)=15,LEN(#REF!)=18),IF(MOD(MID(#REF!,15,3)*1,2),\"男\",\"女\"),#N/A)","v":{"$error":"#REF!"}},"汉","初中",null,"新乡市苏新职业培训学校","母婴护理员","2024.5.14-5.22","四级",1600]
[5,"蔡彦彦",{"$f":"IF(OR(LEN(#REF!)=15,LEN(#REF!)=18),IF(MOD(MID(#REF!,15,3)*1,2),\"男\",\"女\"),#N/A)","v":{"$error":"#REF!"}},"汉","初中",null,"新乡市苏新职业培训学校","母婴护理员","2024.5.14-5.22","四级",1600]
[6,"曹素芳",{"$f":"IF(OR(LEN(#REF!)=15,LEN(#REF!)=18),IF(MOD(MID(#REF!,15,3)*1,2),\"男\",\"女\"),#N/A)","v":{"$error":"#REF!"}},"汉","大专",null,"新乡市苏新职业培训学校","母婴护理员","2024.5.14-5.22","四级",1600]
[7,"曹真真",{"$f":"IF(OR(LEN(#REF!)=15,LEN(#REF!)=18),IF(MOD(MID(#REF!,15,3)*1,2),\"男\",\"女\"),#N/A)","v":{"$error":"#REF!"}},"汉","初中",null,"新乡市苏新职业培训学校","母婴护理员","2024.5.14-5.22","四级",1600]
[8,"程远红",{"$f":"IF(OR(LEN(#REF!)=15,LEN(#REF!)=18),IF(MOD(MID(#REF!,15,3)*1,2),\"男\",\"女\"),#N/A)","v":{"$error":"#REF!"}},"汉","初中",null,"新乡市苏新职业培训学校","母婴护理员","2024.5.14-5.22","四级",1600]
[9,"胡长凤",{"$f":"IF(OR(LEN(#REF!)=15,LEN(#REF!)=18),IF(MOD(MID(#REF!,15,3)*1,2),\"男\",\"女\"),#N/A)","v":{"$error":"#REF!"}},"汉","初中",null,"新乡市苏新职业培训学校","母婴护理员","2024.5.14-5.22","四级",1600]
[10,"黄建丽",{"$f":"IF(OR(LEN(#REF!)=15,LEN(#REF!)=18),IF(MOD(MID(#REF!,15,3)*1,2),\"男\",\"女\"),#N/A)","v":{"$error":"#REF!"}},"汉","高中",null,"新乡市苏新职业培训学校","母婴护理员","2024.5.14-5.22","四级",1600]
[11,"焦彦卫",{"$f":"IF(OR(LEN(#REF!)=15,LEN(#REF!)=18),IF(MOD(MID(#REF!,15,3)*1,2),\"男\",\"女\"),#N/A)","v":{"$error":"#REF!"}},"汉","初中",null,"新乡市苏新职业培训学校","母婴护理员","2024.5.14-5.22","四级",1600]
[12,"李俊芳",{"$f":"IF(OR(LEN(#REF!)=15,LEN(#REF!)=18),IF(MOD(MID(#REF!,15,3)*1,2),\"男\",\"女\"),#N/A)","v":{"$error":"#REF!"}},"汉","初中",null,"新乡市苏新职业培训学校","母婴护理员","2024.5.14-5.22","四级",1600]
[13,"李孟萍",{"$f":"IF(OR(LEN(#REF!)=15,LEN(#REF!)=18),IF(MOD(MID(#REF!,15,3)*1,2),\"男\",\"女\"),#N/A)","v":{"$error":"#REF!"}},"汉","初中",null,"新乡市苏新职业培训学校","母婴护理员","2024.5.14-5.22","四级",1600]
[14,"刘爱青",{"$f":"IF(OR(LEN(#REF!)=15,LEN(#REF!)=18),IF(MOD(MID(#REF!,15,3)*1,2),\"男\",\"女\"),#N/A)","v":{"$error":"#REF!"}},"汉","初中",null,"新乡市苏新职业培训学校","母婴护理员","2024.5.14-5.22","四级",1600]
[15,"刘东霞",{"$f":"IF(OR(LEN(#REF!)=15,LEN(#REF!)=18),IF(MOD(MID(#REF!,15,3)*1,2),\"男\",\"女\"),#N/A)","v":{"$error":"#REF!"}},"汉","高中",null,"新乡市苏新职业培训学校","母婴护理员","2024.5.14-5.22","四级",1600]
[16,"刘凤玲",{"$f":"IF(OR(LEN(#REF!)=15,LEN(#REF!)=18),IF(MOD(MID(#REF!,15,3)*1,2),\"男\",\"女\"),#N/A)","v":{"$error":"#REF!"}},"汉","初中",null,"新乡市苏新职业培训学校","母婴护理员","2024.5.14-5.22","四级",1600]
[17,"刘好枝",{"$f":"IF(OR(LEN(#REF!)=15,LEN(#REF!)=18),IF(MOD(MID(#REF!,15,3)*1,2),\"男\",\"女\"),#N/A)","v":{"$error":"#REF!"}},"汉","初中",null,"新乡市苏新职业培训学校","母婴护理员","2024.5.14-5.22","四级",1600]
[18,"刘娜",{"$f":"IF(OR(LEN(#REF!)=15,LEN(#REF!)=18),IF(MOD(MID(#REF!,15,3)*1,2),\"男\",\"女\"),#N/A)","v":{"$error":"#REF!"}},"汉","初中",null,"新乡市苏新职业培训学校","母婴护理员","2024.5.14-5.22","四级",1600]
[19,"刘沙沙",{"$f":"IF(OR(LEN(#REF!)=15,LEN(#REF!)=18),IF(MOD(MID(#REF!,15,3)*1,2),\"男\",\"女\"),#N/A)","v":{"$error":"#REF!"}},"汉","初中",null,"新乡市苏新职业培训学校","母婴护理员","2024.5.14-5.22","四级",1600]
[20,"刘艳苹",{"$f":"IF(OR(LEN(#REF!)=15,LEN(#REF!)=18),IF(MOD(MID(#REF!,15,3)*1,2),\"男\",\"女\"),#N/A)","v":{"$error":"#REF!"}},"汉","初中",null,"新乡市苏新职业培训学校","母婴护理员","2024.5.14-5.22","四级",1600]
[21,"刘永珠",{"$f":"IF(OR(LEN(#REF!)=15,LEN(#REF!)=18),IF(MOD(MID(#REF!,15,3)*1,2),\"男\",\"女\"),#N/A)","v":{"$error":"#REF!"}},"汉","初中",null,"新乡市苏新职业培训学校","母婴护理员","2024.5.14-5.22","四级",1600]
[22,"鹿金霞",{"$f":"IF(OR(LEN(#REF!)=15,LEN(#REF!)=18),IF(MOD(MID(#REF!,15,3)*1,2),\"男\",\"女\"),#N/A)","v":{"$error":"#REF!"}},"汉","初中",null,"新乡市苏新职业培训学校","母婴护理员","2024.5.14-5.22","四级",1600]
[23,"鹿振霞",{"$f":"IF(OR(LEN(#REF!)=15,LEN(#REF!)=18),IF(MOD(MID(#REF!,15,3)*1,2),\"男\",\"女\"),#N/A)","v":{"$error":"#REF!"}},"汉","初中",null,"新乡市苏新职业培训学校","母婴护理员","2024.5.14-5.22","四级",1600]
[24,"牟秋娟",{"$f":"IF(OR(LEN(#REF!)=15,LEN(#REF!)=18),IF(MOD(MID(#REF!,15,3)*1,2),\"男\",\"女\"),#N/A)","v":{"$error":"#REF!"}},"汉","初中",null,"新乡市苏新职业培训学校","母婴护理员","2024.5.14-5.22","四级",1600]
[25,"裴玉歌",{"$f":"IF(OR(LEN(#REF!)=15,LEN(#REF!)=18),IF(MOD(MID(#REF!,15,3)*1,2),\"男\",\"女\"),#N/A)","v":{"$error":"#REF!"}},"汉","初中",null,"新乡市苏新职业培训学校","母婴护理员","2024.5.14-5.22","四级",1600]
[26,"田海燕",{"$f":"IF(OR(LEN(#REF!)=15,LEN(#REF!)=18),IF(MOD(MID(#REF!,15,3)*1,2),\"男\",\"女\"),#N/A)","v":{"$error":"#REF!"}},"汉","初中",null,"新乡市苏新职业培训学校","母婴护理员","2024.5.14-5.22","四级",1600]
[27,"田瑞萍",{"$f":"IF(OR(LEN(#REF!)=15,LEN(#REF!)=18),IF(MOD(MID(#REF!,15,3)*1,2),\"男\",\"女\"),#N/A)","v":{"$error":"#REF!"}},"汉","初中",null,"新乡市苏新职业培训学校","母婴护理员","2024.5.14-5.22","四级",1600]
[28,"王瑞琳",{"$f":"IF(OR(LEN(#REF!)=15,LEN(#REF!)=18),IF(MOD(MID(#REF!,15,3)*1,2),\"男\",\"女\"),#N/A)","v":{"$error":"#REF!"}},"汉","中专",null,"新乡市苏新职业培训学校","母婴护理员","2024.5.14-5.22","四级",1600]
[29,"王思枝",{"$f":"IF(OR(LEN(#REF!)=15,LEN(#REF!)=18),IF(MOD(MID(#REF!,15,3)*1,2),\"男\",\"女\"),#N/A)","v":{"$error":"#REF!"}},"汉","初中",null,"新乡市苏新职业培训学校","母婴护理员","2024.5.14-5.22","四级",1600]
[30,"王鲜花",{"$f":"IF(OR(LEN(#REF!)=15,LEN(#REF!)=18),IF(MOD(MID(#REF!,15,3)*1,2),\"男\",\"女\"),#N/A)","v":{"$error":"#REF!"}},"汉","中专",null,"新乡市苏新职业培训学校","母婴护理员","2024.5.14-5.22","四级",1600]
[31,"王新莉",{"$f":"IF(OR(LEN(#REF!)=15,LEN(#REF!)=18),IF(MOD(MID(#REF!,15,3)*1,2),\"男\",\"女\"),#N/A)","v":{"$error":"#REF!"}},"汉","初中",null,"新乡市苏新职业培训学校","母婴护理员","2024.5.14-5.22","四级",1600]
[32,"王秀娟",{"$f":"IF(OR(LEN(#REF!)=15,LEN(#REF!)=18),IF(MOD(MID(#REF!,15,3)*1,2),\"男\",\"女\"),#N/A)","v":{"$error":"#REF!"}},"汉","初中",null,"新乡市苏新职业培训学校","母婴护理员","2024.5.14-5.22","四级",1600]
[33,"王雪芹",{"$f":"IF(OR(LEN(#REF!)=15,LEN(#REF!)=18),IF(MOD(MID(#REF!,15,3)*1,2),\"男\",\"女\"),#N/A)","v":{"$error":"#REF!"}},"汉","初中",null,"新乡市苏新职业培训学校","母婴护理员","2024.5.14-5.22","四级",1600]
[34,"王艳琦",{"$f":"IF(OR(LEN(#REF!)=15,LEN(#REF!)=18),IF(MOD(MID(#REF!,15,3)*1,2),\"男\",\"女\"),#N/A)","v":{"$error":"#REF!"}},"汉","高中",null,"新乡市苏新职业培训学校","母婴护理员","2024.5.14-5.22","四级",1600]
[35,"王玉冷",{"$f":"IF(OR(LEN(#REF!)=15,LEN(#REF!)=18),IF(MOD(MID(#REF!,15,3)*1,2),\"男\",\"女\"),#N/A)","v":{"$error":"#REF!"}},"汉","初中",null,"新乡市苏新职业培训学校","母婴护理员","2024.5.14-5.22","四级",1600]
[36,"吴彦芳",{"$f":"IF(OR(LEN(#REF!)=15,LEN(#REF!)=18),IF(MOD(MID(#REF!,15,3)*1,2),\"男\",\"女\"),#N/A)","v":{"$error":"#REF!"}},"汉","初中",null,"新乡市苏新职业培训学校","母婴护理员","2024.5.14-5.22","四级",1600]
[37,"肖洪霞",{"$f":"IF(OR(LEN(#REF!)=15,LEN(#REF!)=18),IF(MOD(MID(#REF!,15,3)*1,2),\"男\",\"女\"),#N/A)","v":{"$error":"#REF!"}},"汉","初中",null,"新乡市苏新职业培训学校","母婴护理员","2024.5.14-5.22","四级",1600]
[38,"许风梅",{"$f":"IF(OR(LEN(#REF!)=15,LEN(#REF!)=18),IF(MOD(MID(#REF!,15,3)*1,2),\"男\",\"女\"),#N/A)","v":{"$error":"#REF!"}},"汉","初中",null,"新乡市苏新职业培训学校","母婴护理员","2024.5.14-5.22","四级",1600]
[39,"杨有勤",{"$f":"IF(OR(LEN(#REF!)=15,LEN(#REF!)=18),IF(MOD(MID(#REF!,15,3)*1,2),\"男\",\"女\"),#N/A)","v":{"$error":"#REF!"}},"汉","初中",null,"新乡市苏新职业培训学校","母婴护理员","2024.5.14-5.22","四级",1600]
[40,"张付敏",{"$f":"IF(OR(LEN(#REF!)=15,LEN(#REF!)=18),IF(MOD(MID(#REF!,15,3)*1,2),\"男\",\"女\"),#N/A)","v":{"$error":"#REF!"}},"汉","初中",null,"新乡市苏新职业培训学校","母婴护理员","2024.5.14-5.22","四级",1600]
[41,"张付枝",{"$f":"IF(OR(LEN(#REF!)=15,LEN(#REF!)=18),IF(MOD(MID(#REF!,15,3)*1,2),\"男\",\"女\"),#N/A)","v":{"$error":"#REF!"}},"汉","初中",null,"新乡市苏新职业培训学校","母婴护理员","2024.5.14-5.22","四级",1600]
[42,"张富红",{"$f":"IF(OR(LEN(#REF!)=15,LEN(#REF!)=18),IF(MOD(MID(#REF!,15,3)*1,2),\"男\",\"女\"),#N/A)","v":{"$error":"#REF!"}},"汉","初中",null,"新乡市苏新职业培训学校","母婴护理员","2024.5.14-5.22","四级",1600]
[43,"张利娜",{"$f":"IF(OR(LEN(#REF!)=15,LEN(#REF!)=18),IF(MOD(MID(#REF!,15,3)*1,2),\"男\",\"女\"),#N/A)","v":{"$error":"#REF!"}},"汉","初中",null,"新乡市苏新职业培训学校","母婴护理员","2024.5.14-5.22","四级",1600]
[44,"张敏",{"$f":"IF(OR(LEN(#REF!)=15,LEN(#REF!)=18),IF(MOD(MID(#REF!,15,3)*1,2),\"男\",\"女\"),#N/A)","v":{"$error":"#REF!"}},"汉","中专",null,"新乡市苏新职业培训学校","母婴护理员","2024.5.14-5.22","四级",1600]
[45,"张西叶",{"$f":"IF(OR(LEN(#REF!)=15,LEN(#REF!)=18),IF(MOD(MID(#REF!,15,3)*1,2),\"男\",\"女\"),#N/A)","v":{"$error":"#REF!"}},"汉","初中",null,"新乡市苏新职业培训学校","母婴护理员","2024.5.14-5.22","四级",1600]
[46,"张新花",{"$f":"IF(OR(LEN(#REF!)=15,LEN(#REF!)=18),IF(MOD(MID(#REF!,15,3)*1,2),\"男\",\"女\"),#N/A)","v":{"$error":"#REF!"}},"汉","初中",null,"新乡市苏新职业培训学校","母婴护理员","2024.5.14-5.22","四级",1600]
[47,"张艳青",{"$f":"IF(OR(LEN(#REF!)=15,LEN(#REF!)=18),IF(MOD(MID(#REF!,15,3)*1,2),\"男\",\"女\"),#N/A)","v":{"$error":"#REF!"}},"汉","初中",null,"新乡市苏新职业培训学校","母婴护理员","2024.5.14-5.22","四级",1600]
[48,"周放",{"$f":"IF(OR(LEN(#REF!)=15,LEN(#REF!)=18),IF(MOD(MID(#REF!,15,3)*1,2),\"男\",\"女\"),#N/A)","v":{"$error":"#REF!"}},"汉","初中",null,"新乡市苏新职业培训学校","母婴护理员","2024.5.14-5.22","四级",1600]
[49,"周景连",{"$f":"IF(OR(LEN(#REF!)=15,LEN(#REF!)=18),IF(MOD(MID(#REF!,15,3)*1,2),\"男\",\"女\"),#N/A)","v":{"$error":"#REF!"}},"汉","初中",null,"新乡市苏新职业培训学校","母婴护理员","2024.5.14-5.22","四级",1600]
[50,"孟令改",{"$f":"IF(OR(LEN(#REF!)=15,LEN(#REF!)=18),IF(MOD(MID(#REF!,15,3)*1,2),\"男\",\"女\"),#N/A)","v":{"$error":"#REF!"}},"汉","初中",null,"新乡市苏新职业培训学校","母婴护理员","2024.5.14-5.22","四级",1600]
[51,"王景然",{"$f":"IF(OR(LEN(#REF!)=15,LEN(#REF!)=18),IF(MOD(MID(#REF!,15,3)*1,2),\"男\",\"女\"),#N/A)","v":{"$error":"#REF!"}},"汉","初中",null,"新乡市苏新职业培训学校","母婴护理员","2024.5.14-5.22","四级",1600]
[52,"王卫利",{"$f":"IF(OR(LEN(#REF!)=15,LEN(#REF!)=18),IF(MOD(MID(#REF!,15,3)*1,2),\"男\",\"女\"),#N/A)","v":{"$error":"#REF!"}},"汉","高中",null,"新乡市苏新职业培训学校","母婴护理员","2024.5.14-5.22","四级",1600]
[53,"谢景玲",{"$f":"IF(OR(LEN(#REF!)=15,LEN(#REF!)=18),IF(MOD(MID(#REF!,15,3)*1,2),\"男\",\"女\"),#N/A)","v":{"$error":"#REF!"}},"汉","初中",null,"新乡市苏新职业培训学校","母婴护理员","2024.5.14-5.22","四级",1600]
[54,"齐秀玲",{"$f":"IF(OR(LEN(#REF!)=15,LEN(#REF!)=18),IF(MOD(MID(#REF!,15,3)*1,2),\"男\",\"女\"),#N/A)","v":{"$error":"#REF!"}},"汉","初中",null,"新乡市苏新职业培训学校","母婴护理员","2024.5.14-5.22","四级",1600]
[55,"孙景红",{"$f":"IF(OR(LEN(#REF!)=15,LEN(#REF!)=18),IF(MOD(MID(#REF!,15,3)*1,2),\"男\",\"女\"),#N/A)","v":{"$error":"#REF!"}},"汉","初中",null,"新乡市苏新职业培训学校","母婴护理员","2024.5.14-5.22","四级",1600]
[56,"王西梅",{"$f":"IF(OR(LEN(#REF!)=15,LEN(#REF!)=18),IF(MOD(MID(#REF!,15,3)*1,2),\"男\",\"女\"),#N/A)","v":{"$error":"#REF!"}},"汉","初中",null,"新乡市苏新职业培训学校","母婴护理员","2024.5.14-5.22","四级",1600]
[57,"萧俊芳",{"$f":"IF(OR(LEN(#REF!)=15,LEN(#REF!)=18),IF(MOD(MID(#REF!,15,3)*1,2),\"男\",\"女\"),#N/A)","v":{"$error":"#REF!"}},"汉","中专",null,"新乡市苏新职业培训学校","母婴护理员","2024.5.14-5.22","四级",1600]
[58,"许晓慧",{"$f":"IF(OR(LEN(#REF!)=15,LEN(#REF!)=18),IF(MOD(MID(#REF!,15,3)*1,2),\"男\",\"女\"),#N/A)","v":{"$error":"#REF!"}},"汉","大专",null,"新乡市苏新职业培训学校","母婴护理员","2024.5.14-5.22","四级",1600]
[59,"张亚杰",{"$f":"IF(OR(LEN(#REF!)=15,LEN(#REF!)=18),IF(MOD(MID(#REF!,15,3)*1,2),\"男\",\"女\"),#N/A)","v":{"$error":"#REF!"}},"汉","初中",null,"新乡市苏新职业培训学校","母婴护理员","2024.5.14-5.22","四级",1600]

{"sheet":"家政服务3期 (2)","index":5,"n_rows":53,"n_cols":11,"rows_kept":53,"merged":[[0,0,0,10],[1,0,1,10]]}
["封丘县职业技能提升培训合格学员花名册"]
["班级：2024年苏新封丘县家政服务员（母婴护理员）四级第3期                                                                                             补贴标准：元"]
["序号","姓名","性\n别","民族","学历","工作单位","培训机构\n名称","培训工种","培训起止时间","证书等级","补贴\n标准"]
[1,"曹明秋",{"$f":"IF(OR(LEN(#REF!)=15,LEN(#REF!)=18),IF(MOD(MID(#REF!,15,3)*1,2),\"男\",\"女\"),#N/A)","v":{"$error":"#REF!"}},"汉","初中",null,"新乡市苏新职业培训学校","母婴护理员","2024.4.19-4.27","四级",1600]
[2,"柴海英",{"$f":"IF(OR(LEN(#REF!)=15,LEN(#REF!)=18),IF(MOD(MID(#REF!,15,3)*1,2),\"男\",\"女\"),#N/A)","v":{"$error":"#REF!"}},"汉","初中",null,"新乡市苏新职业培训学校","母婴护理员","2024.4.19-4.27","四级",1600]
[3,"柴莉英",{"$f":"IF(OR(LEN(#REF!)=15,LEN(#REF!)=18),IF(MOD(MID(#REF!,15,3)*1,2),\"男\",\"女\"),#N/A)","v":{"$error":"#REF!"}},"汉","初中",null,"新乡市苏新职业培训学校","母婴护理员","2024.4.19-4.27","四级",1600]
[4,"柴珍珍",{"$f":"IF(OR(LEN(#REF!)=15,LEN(#REF!)=18),IF(MOD(MID(#REF!,15,3)*1,2),\"男\",\"女\"),#N/A)","v":{"$error":"#REF!"}},"汉","大专",null,"新乡市苏新职业培训学校","母婴护理员","2024.4.19-4.27","四级",1600]
[5,"崔志普",{"$f":"IF(OR(LEN(#REF!)=15,LEN(#REF!)=18),IF(MOD(MID(#REF!,15,3)*1,2),\"男\",\"女\"),#N/A)","v":{"$error":"#REF!"}},"汉","初中",null,"新乡市苏新职业培训学校","母婴护理员","2024.4.19-4.27","四级",1600]
[6,"范姣姣",{"$f":"IF(OR(LEN(#REF!)=15,LEN(#REF!)=18),IF(MOD(MID(#REF!,15,3)*1,2),\"男\",\"女\"),#N/A)","v":{"$error":"#REF!"}},"汉","初中",null,"新乡市苏新职业培训学校","母婴护理员","2024.4.19-4.27","四级",1600]
[7,"范瑞红",{"$f":"IF(OR(LEN(#REF!)=15,LEN(#REF!)=18),IF(MOD(MID(#REF!,15,3)*1,2),\"男\",\"女\"),#N/A)","v":{"$error":"#REF!"}},"汉","初中",null,"新乡市苏新职业培训学校","母婴护理员","2024.4.19-4.27","四级",1600]
[8,"范小玲",{"$f":"IF(OR(LEN(#REF!)=15,LEN(#REF!)=18),IF(MOD(MID(#REF!,15,3)*1,2),\"男\",\"女\"),#N/A)","v":{"$error":"#REF!"}},"汉","初中",null,"新乡市苏新职业培训学校","母婴护理员","2024.4.19-4.27","四级",1600]
[9,"高宝红",{"$f":"IF(OR(LEN(#REF!)=15,LEN(#REF!)=18),IF(MOD(MID(#REF!,15,3)*1,2),\"男\",\"女\"),#N/A)","v":{"$error":"#REF!"}},"汉","大专",null,"新乡市苏新职业培训学校","母婴护理员","2024.4.19-4.27","四级",1600]
[10,"葛美英",{"$f":"IF(OR(LEN(#REF!)=15,LEN(#REF!)=18),IF(MOD(MID(#REF!,15,3)*1,2),\"男\",\"女\"),#N/A)","v":{"$error":"#REF!"}},"汉","高中",null,"新乡市苏新职业培训学校","母婴护理员","2024.4.19-4.27","四级",1600]
[11,"李爱香",{"$f":"IF(OR(LEN(#REF!)=15,LEN(#REF!)=18),IF(MOD(MID(#REF!,15,3)*1,2),\"男\",\"女\"),#N/A)","v":{"$error":"#REF!"}},"汉","初中",null,"新乡市苏新职业培训学校","母婴护理员","2024.4.19-4.27","四级",1600]
[12,"李春杰",{"$f":"IF(OR(LEN(#REF!)=15,LEN(#REF!)=18),IF(MOD(MID(#REF!,15,3)*1,2),\"男\",\"女\"),#N/A)","v":{"$error":"#REF!"}},"汉","初中",null,"新乡市苏新职业培训学校","母婴护理员","2024.4.19-4.27","四级",1600]
[13,"李凤秀",{"$f":"IF(OR(LEN(#REF!)=15,LEN(#REF!)=18),IF(MOD(MID(#REF!,15,3)*1,2),\"男\",\"女\"),#N/A)","v":{"$error":"#REF!"}},"汉","初中",null,"新乡市苏新职业培训学校","母婴护理员","2024.4.19-4.27","四级",1600]
[14,"李梅",{"$f":"IF(OR(LEN(#REF!)=15,LEN(#REF!)=18),IF(MOD(MID(#REF!,15,3)*1,2),\"男\",\"女\"),#N/A)","v":{"$error":"#REF!"}},"汉","初中",null,"新乡市苏新职业培训学校","母婴护理员","2024.4.19-4.27","四级",1600]
[15,"李欠欠",{"$f":"IF(OR(LEN(#REF!)=15,LEN(#REF!)=18),IF(MOD(MID(#REF!,15,3)*1,2),\"男\",\"女\"),#N/A)","v":{"$error":"#REF!"}},"汉","初中",null,"新乡市苏新职业培训学校","母婴护理员","2024.4.19-4.27","四级",1600]
[16,"李书玲",{"$f":"IF(OR(LEN(#REF!)=15,LEN(#REF!)=18),IF(MOD(MID(#REF!,15,3)*1,2),\"男\",\"女\"),#N/A)","v":{"$error":"#REF!"}},"汉","初中",null,"新乡市苏新职业培训学校","母婴护理员","2024.4.19-4.27","四级",1600]
[17,"李晓红",{"$f":"IF(OR(LEN(#REF!)=15,LEN(#REF!)=18),IF(MOD(MID(#REF!,15,3)*1,2),\"男\",\"女\"),#N/A)","v":{"$error":"#REF!"}},"汉","初中",null,"新乡市苏新职业培训学校","母婴护理员","2024.4.19-4.27","四级",1600]
[18,"李秀枝",{"$f":"IF(OR(LEN(#REF!)=15,LEN(#REF!)=18),IF(MOD(MID(#REF!,15,3)*1,2),\"男\",\"女\"),#N/A)","v":{"$error":"#REF!"}},"汉","初中",null,"新乡市苏新职业培训学校","母婴护理员","2024.4.19-4.27","四级",1600]
[19,"刘广星",{"$f":"IF(OR(LEN(#REF!)=15,LEN(#REF!)=18),IF(MOD(MID(#REF!,15,3)*1,2),\"男\",\"女\"),#N/A)","v":{"$error":"#REF!"}},"汉","初中",null,"新乡市苏新职业培训学校","母婴护理员","2024.4.19-4.27","四级",1600]
[20,"刘伟兰",{"$f":"IF(OR(LEN(#REF!)=15,LEN(#REF!)=18),IF(MOD(MID(#REF!,15,3)*1,2),\"男\",\"女\"),#N/A)","v":{"$error":"#REF!"}},"汉","初中",null,"新乡市苏新职业培训学校","母婴护理员","2024.4.19-4.27","四级",1600]
[21,"刘艳艳",{"$f":"IF(OR(LEN(#REF!)=15,LEN(#REF!)=18),IF(MOD(MID(#REF!,15,3)*1,2),\"男\",\"女\"),#N/A)","v":{"$error":"#REF!"}},"汉","初中",null,"新乡市苏新职业培训学校","母婴护理员","2024.4.19-4.27","四级",1600]
[22,"吕文静",{"$f":"IF(OR(LEN(#REF!)=15,LEN(#REF!)=18),IF(MOD(MID(#REF!,15,3)*1,2),\"男\",\"女\"),#N/A)","v":{"$error":"#REF!"}},"汉","初中",null,"新乡市苏新职业培训学校","母婴护理员","2024.4.19-4.27","四级",1600]
[23,"马忠静",{"$f":"IF(OR(LEN(#REF!)=15,LEN(#REF!)=18),IF(MOD(MID(#REF!,15,3)*1,2),\"男\",\"女\"),#N/A)","v":{"$error":"#REF!"}},"汉","初中",null,"新乡市苏新职业培训学校","母婴护理员","2024.4.19-4.27","四级",1600]
[24,"邵素红",{"$f":"IF(OR(LEN(#REF!)=15,LEN(#REF!)=18),IF(MOD(MID(#REF!,15,3)*1,2),\"男\",\"女\"),#N/A)","v":{"$error":"#REF!"}},"汉","初中",null,"新乡市苏新职业培训学校","母婴护理员","2024.4.19-4.27","四级",1600]
[25,"宋成桃",{"$f":"IF(OR(LEN(#REF!)=15,LEN(#REF!)=18),IF(MOD(MID(#REF!,15,3)*1,2),\"男\",\"女\"),#N/A)","v":{"$error":"#REF!"}},"汉","初中",null,"新乡市苏新职业培训学校","母婴护理员","2024.4.19-4.27","四级",1600]
[26,"孙凤连",{"$f":"IF(OR(LEN(#REF!)=15,LEN(#REF!)=18),IF(MOD(MID(#REF!,15,3)*1,2),\"男\",\"女\"),#N/A)","v":{"$error":"#REF!"}},"汉","初中",null,"新乡市苏新职业培训学校","母婴护理员","2024.4.19-4.27","四级",1600]
[27,"王凤鸽",{"$f":"IF(OR(LEN(#REF!)=15,LEN(#REF!)=18),IF(MOD(MID(#REF!,15,3)*1,2),\"男\",\"女\"),#N/A)","v":{"$error":"#REF!"}},"汉","初中",null,"新乡市苏新职业培训学校","母婴护理员","2024.4.19-4.27","四级",1600]
[28,"王红利",{"$f":"IF(OR(LEN(#REF!)=15,LEN(#REF!)=18),IF(MOD(MID(#REF!,15,3)*1,2),\"男\",\"女\"),#N/A)","v":{"$error":"#REF!"}},"汉","初中",null,"新乡市苏新职业培训学校","母婴护理员","2024.4.19-4.27","四级",1600]
[29,"王利卿",{"$f":"IF(OR(LEN(#REF!)=15,LEN(#REF!)=18),IF(MOD(MID(#REF!,15,3)*1,2),\"男\",\"女\"),#N/A)","v":{"$error":"#REF!"}},"汉","初中",null,"新乡市苏新职业培训学校","母婴护理员","2024.4.19-4.27","四级",1600]
[30,"王芹玲",{"$f":"IF(OR(LEN(#REF!)=15,LEN(#REF!)=18),IF(MOD(MID(#REF!,15,3)*1,2),\"男\",\"女\"),#N/A)","v":{"$error":"#REF!"}},"汉","初中",null,"新乡市苏新职业培训学校","母婴护理员","2024.4.19-4.27","四级",1600]
[31,"王淑鹤",{"$f":"IF(OR(LEN(#REF!)=15,LEN(#REF!)=18),IF(MOD(MID(#REF!,15,3)*1,2),\"男\",\"女\"),#N/A)","v":{"$error":"#REF!"}},"汉","初中",null,"新乡市苏新职业培训学校","母婴护理员","2024.4.19-4.27","四级",1600]
[32,"薛小敏",{"$f":"IF(OR(LEN(#REF!)=15,LEN(#REF!)=18),IF(MOD(MID(#REF!,15,3)*1,2),\"男\",\"女\"),#N/A)","v":{"$error":"#REF!"}},"汉","大专",null,"新乡市苏新职业培训学校","母婴护理员","2024.4.19-4.27","四级",1600]
[33,"闫金莉",{"$f":"IF(OR(LEN(#REF!)=15,LEN(#REF!)=18),IF(MOD(MID(#REF!,15,3)*1,2),\"男\",\"女\"),#N/A)","v":{"$error":"#REF!"}},"汉","高中",null,"新乡市苏新职业培训学校","母婴护理员","2024.4.19-4.27","四级",1600]
[34,"闫梦莹",{"$f":"IF(OR(LEN(#REF!)=15,LEN(#REF!)=18),IF(MOD(MID(#REF!,15,3)*1,2),\"男\",\"女\"),#N/A)","v":{"$error":"#REF!"}},"汉","初中",null,"新乡市苏新职业培训学校","母婴护理员","2024.4.19-4.27","四级",1600]
[35,"闫艳丽",{"$f":"IF(OR(LEN(#REF!)=15,LEN(#REF!)=18),IF(MOD(MID(#REF!,15,3)*1,2),\"男\",\"女\"),#N/A)","v":{"$error":"#REF!"}},"汉","初中",null,"新乡市苏新职业培训学校","母婴护理员","2024.4.19-4.27","四级",1600]
[36,"杨文青",{"$f":"IF(OR(LEN(#REF!)=15,LEN(#REF!)=18),IF(MOD(MID(#REF!,15,3)*1,2),\"男\",\"女\"),#N/A)","v":{"$error":"#REF!"}},"汉","中专",null,"新乡市苏新职业培训学校","母婴护理员","2024.4.19-4.27","四级",1600]
[37,"杨振娟",{"$f":"IF(OR(LEN(#REF!)=15,LEN(#REF!)=18),IF(MOD(MID(#REF!,15,3)*1,2),\"男\",\"女\"),#N/A)","v":{"$error":"#REF!"}},"汉","初中",null,"新乡市苏新职业培训学校","母婴护理员","2024.4.19-4.27","四级",1600]
[38,"尹爱花",{"$f":"IF(OR(LEN(#REF!)=15,LEN(#REF!)=18),IF(MOD(MID(#REF!,15,3)*1,2),\"男\",\"女\"),#N/A)","v":{"$error":"#REF!"}},"汉","初中",null,"新乡市苏新职业培训学校","母婴护理员","2024.4.19-4.27","四级",1600]
[39,"于素玲",{"$f":"IF(OR(LEN(#REF!)=15,LEN(#REF!)=18),IF(MOD(MID(#REF!,15,3)*1,2),\"男\",\"女\"),#N/A)","v":{"$error":"#REF!"}},"汉","初中",null,"新乡市苏新职业培训学校","母婴护理员","2024.4.19-4.27","四级",1600]
[40,"张欢丽",{"$f":"IF(OR(LEN(#REF!)=15,LEN(#REF!)=18),IF(MOD(MID(#REF!,15,3)*1,2),\"男\",\"女\"),#N/A)","v":{"$error":"#REF!"}},"汉","初中",null,"新乡市苏新职业培训学校","母婴护理员","2024.4.19-4.27","四级",1600]
[41,"张慧枝",{"$f":"IF(OR(LEN(#REF!)=15,LEN(#REF!)=18),IF(MOD(MID(#REF!,15,3)*1,2),\"男\",\"女\"),#N/A)","v":{"$error":"#REF!"}},"汉","初中",null,"新乡市苏新职业培训学校","母婴护理员","2024.4.19-4.27","四级",1600]
[42,"张玲枝",{"$f":"IF(OR(LEN(#REF!)=15,LEN(#REF!)=18),IF(MOD(MID(#REF!,15,3)*1,2),\"男\",\"女\"),#N/A)","v":{"$error":"#REF!"}},"汉","初中",null,"新乡市苏新职业培训学校","母婴护理员","2024.4.19-4.27","四级",1600]
[43,"张卫莲",{"$f":"IF(OR(LEN(#REF!)=15,LEN(#REF!)=18),IF(MOD(MID(#REF!,15,3)*1,2),\"男\",\"女\"),#N/A)","v":{"$error":"#REF!"}},"汉","高中",null,"新乡市苏新职业培训学校","母婴护理员","2024.4.19-4.27","四级",1600]
[44,"张艳丽",{"$f":"IF(OR(LEN(#REF!)=15,LEN(#REF!)=18),IF(MOD(MID(#REF!,15,3)*1,2),\"男\",\"女\"),#N/A)","v":{"$error":"#REF!"}},"汉","初中",null,"新乡市苏新职业培训学校","母婴护理员","2024.4.19-4.27","四级",1600]
[45,"张玉香",{"$f":"IF(OR(LEN(#REF!)=15,LEN(#REF!)=18),IF(MOD(MID(#REF!,15,3)*1,2),\"男\",\"女\"),#N/A)","v":{"$error":"#REF!"}},"汉","初中",null,"新乡市苏新职业培训学校","母婴护理员","2024.4.19-4.27","四级",1600]
[46,"赵利霞",{"$f":"IF(OR(LEN(#REF!)=15,LEN(#REF!)=18),IF(MOD(MID(#REF!,15,3)*1,2),\"男\",\"女\"),#N/A)","v":{"$error":"#REF!"}},"汉","初中",null,"新乡市苏新职业培训学校","母婴护理员","2024.4.19-4.27","四级",1600]
[47,"赵雪丽",{"$f":"IF(OR(LEN(#REF!)=15,LEN(#REF!)=18),IF(MOD(MID(#REF!,15,3)*1,2),\"男\",\"女\"),#N/A)","v":{"$error":"#REF!"}},"汉","初中",null,"新乡市苏新职业培训学校","母婴护理员","2024.4.19-4.27","四级",1600]
[48,"朱博含",{"$f":"IF(OR(LEN(#REF!)=15,LEN(#REF!)=18),IF(MOD(MID(#REF!,15,3)*1,2),\"男\",\"女\"),#N/A)","v":{"$error":"#REF!"}},"汉","初中",null,"新乡市苏新职业培训学校","母婴护理员","2024.4.19-4.27","四级",1600]
[49,"朱卫卫",{"$f":"IF(OR(LEN(#REF!)=15,LEN(#REF!)=18),IF(MOD(MID(#REF!,15,3)*1,2),\"男\",\"女\"),#N/A)","v":{"$error":"#REF!"}},"汉","初中",null,"新乡市苏新职业培训学校","母婴护理员","2024.4.19-4.27","四级",1600]
[50,"杨瑞红",{"$f":"IF(OR(LEN(#REF!)=15,LEN(#REF!)=18),IF(MOD(MID(#REF!,15,3)*1,2),\"男\",\"女\"),#N/A)","v":{"$error":"#REF!"}},"汉","大专",null,"新乡市苏新职业培训学校","母婴护理员","2024.4.19-4.27","四级",1600]